BEGIN:VCALENDAR
VERSION:2.0
PRODID:Gezeitenkonzerte
CALSCALE:GREGORIAN
BEGIN:VEVENT
LOCATION:Online\, 
GEO:
SUMMARY:Wie kann der Chatbot ChatGPT den Unterricht unterstützen?\, Lehrkräftefortbildung in Kooperation mit der Niedersächsischen Landesmedienanstalt
DESCRIPTION:Das Chatprogramm ChatGPT von OpenAI ist in der Lage\, mittels KI menschliche Antworten auf Fragen aller Art zu liefern. Schüler:innen haben längst ChatGPT als praktischen Helfer im Schulalltag für sich entdeckt. Aber: Künstliche Intelligenz und Schule - passt das zusammen? Was ist ein Chatbot überhaupt? Wir bekomme ich Zugang zu Chat GPT und wie kann ich sinnvolle Prompts erstellen? Weitere Informationen / Anmeldung
DTSTART:20230601T140000Z
DTEND:20230601T150000Z
URL;VALUE=URI:https://bildung.ostfriesischelandschaft.de/veranstaltung/wie-kann-der-chatbot-chatgpt-den-unterricht-unterstuetzen/
DTSTAMP:20260422T091608Z
UID:69e891d8d95d4
END:VEVENT
END:VCALENDAR