BEGIN:VCALENDAR
VERSION:2.0
PRODID:Gezeitenkonzerte
CALSCALE:GREGORIAN
BEGIN:VEVENT
LOCATION:Online\, 
GEO:
SUMMARY:Einführung in die Welt der wilden Fermente &#8211\; Mehr als Sauerkraut und Kimchi\, 
DESCRIPTION:Wir freuen uns auf den leidenschaftlichen Koch Thore Hildebrandt aus Berlin! Nach einer kurzen Einführung in die Geschichte\, die Vorteile und die Techniken der Fermentation führt er Sie mit Hilfe von zwei Kameras aus unterschiedlichen Perspektiven Schritt für Schritt an das Thema heran. Und Sie produzieren gleich mit: Am Ende des Nachmittags haben Sie mindestens zwei selbstgemachte Fermente im Glas. weitere Informationen   Anmeldung
DTSTART:20241205T140000Z
DTEND:20241205T160000Z
URL;VALUE=URI:https://bildung.ostfriesischelandschaft.de/veranstaltung/welt-der-fermente/
DTSTAMP:20260422T092123Z
UID:69e89313ce944
END:VEVENT
END:VCALENDAR