BEGIN:VCALENDAR
VERSION:2.0
PRODID:Gezeitenkonzerte
CALSCALE:GREGORIAN
BEGIN:VEVENT
LOCATION:Online\, 
GEO:
SUMMARY:Was ist denn nur mit diesem Schüler los? &#8230\; Ist diese Schülerin psychisch auffällig? Psychische Auffälligkeiten besser erkennen und richtig beraten\, 
DESCRIPTION:Fortbildung für Lehrkräfte\, Schulsozialarbeiter:innen und schulisches Personal Ihnen als Lehrkräften und Erzieher:innen begegnen im Zuge der Inklusion häufiger Kinder und Jugendliche\, die durch ihr Verhalten negativ auffallen. Eine psychische Auffälligkeit zu erkennen und dieser mit pädagogischen Mitteln angemessen zu begegnen sind zentrale Ziele dieses Seminars. Um professionell mit psychischen Störungen in der Schule oder im Kindergarten umgehen zu können\, ist eine Kenntnis der individuellen Ursachen notwendig. In diesem Seminar erweitern Sie Ihre Grundkenntnisse zu allen wichtigen Symptomen und Störungsbildern und sind anschließend in der Lage\, das Verhalten der Schüler:innen zielgerichtet zu beobachten und kompetent für die Familie und die Ärzte zu beschreiben. Zusätzlich erlernen Sie Notfallstrategien und erhalten einen Überblick über Ansprechpartner bei Ämtern\, Krankenkassen und Ärzten. Dadurch können Sie die Eltern zukünftig besser unterstützen und beraten. Sie bekommen ein tieferes Verständnis für die jeweils typischen Interaktionsprozesse der Kinder und Jugendlichen und können Ihr eigenes Kommunikationsverhalten zielgerichtet anpassen. zur Anmeldung
DTSTART:20240201T080000Z
DTEND:20240201T150000Z
URL;VALUE=URI:https://bildung.ostfriesischelandschaft.de/veranstaltung/was-ist-denn-nur-mit-diesem-schueler-los-ist-diese-schuelerin-psychisch-auffaellig-psychische-auffaelligkeiten-besser-erkennen-und-richtig-beraten/
DTSTAMP:20260422T060108Z
UID:69e86424a8783
END:VEVENT
END:VCALENDAR