BEGIN:VCALENDAR
VERSION:2.0
PRODID:Gezeitenkonzerte
CALSCALE:GREGORIAN
BEGIN:VEVENT
LOCATION:Online\, 
GEO:
SUMMARY:Vortrag: Sexuelle Übergriffe unter Kindern\, Eine Herausforderung für die Professionalität im Alltag von Kita und Schule
DESCRIPTION:Dieser Vortrag ist Voraussetzung für die Teilnahme an folgenden zwei Fortbildungen im März\, kann aber auch unabhängig davon besucht werden: 10.03.2026: Sexuelle Übergriffe unter Kindern – Eine Herausforderung für die Professionalität im KiTa - Alltag 11.03.2026:- Sexuelle Übergriffe unter Kindern – Eine Herausforderung für die Professionalität im Alltag der Grundschulen „Ist das eigentlich normal?“ Diese Frage stellen sich viele pädagogische Fachkräfte in Kitas und Schulen\, wenn sie mit sexuellen Verhaltensweisen von Kindern konfrontiert sind oder gar Beschwerden dazu erhalten. Kindliche Sexualität verunsichert nicht nur Eltern\, sondern auch Profis\, denn nur wenige pädagogische Ausbildungsgänge vermitteln hier das nötige Fachwissen und Handlungskompetenz. Der Vortrag geht auf Fragen ein wie: • Was ist eigentlich kindliche Sexualität? Wie weit geht sie und wo fangen sexuelle Übergriffe an? • Wie groß ist die Gefahr\, dass Übergriffe mit unbedenklichen sexuellen Aktivitäten verwechselt werden und umgekehrt\, dass jede sexuelle Verhaltensweise von Kindern als sexueller Übergriff problematisiert wird? • Warum sind Kinder übergriffig\, deutet es auf eine problematische Sexualentwicklung hin? • Welche Folgen haben Übergriffe auf betroffene Kinder? • Sollte man die Kinder auf die Situation ansprechen? • Was tun\, wenn Eltern Druck machen? • Wie kann man Wiederholungen wirksam verhindern? Ausgehend von der kindlichen sexuellen Entwicklung wird...
DTSTART:20260218T150000Z
DTEND:20260218T170000Z
URL;VALUE=URI:https://bildung.ostfriesischelandschaft.de/veranstaltung/vortrag-sexuelle-uebergriffe-unter-kindern/
DTSTAMP:20260422T134016Z
UID:69e8cfc078ea1
END:VEVENT
END:VCALENDAR