BEGIN:VCALENDAR
VERSION:2.0
PRODID:Gezeitenkonzerte
CALSCALE:GREGORIAN
BEGIN:VEVENT
LOCATION:Online\, 
GEO:
SUMMARY:Umgang mit traumatisierten Schülerinnen und Schülern (im DaZ-Unterricht)\, 
DESCRIPTION:TERMINIERUNG: 18.03.\, 01.04.\, 06.05. und 20.05.2025\, 16.00-18.00 Uhr Erlebnisse von Krieg\, Flucht oder andere traumatische Erfahrungen belasten viele Schülerinnen und Schüler\, was Lehrkräfte vor große Herausforderungen stellt. Diese Fortbildung bietet praxisnahes Wissen und konkrete Handlungsmöglichkeiten: Trauma-Basiswissen: Was ist ein Trauma? Welche Arten gibt es? Wie entstehen Traumafolgestörungen? Erkennen von Traumatisierungen: Typische Anzeichen wie emotionale Auffälligkeiten\, Rückzug oder Konzentrationsprobleme frühzeitig erkennen\, gerade bei mehrsprachigen Lernenden. Pädagogischer Umgang: Was können Lehrkräfte tun – und was nicht? Sicherheit schaffen\, Grenzen respektieren und Unterstützung bieten. Selbstfürsorge: Umgang mit eigener Belastung\, Stressbewältigung und Resilienzaufbau. Praxis: Methoden aus der Traumapädagogik für die Klasse\, um Hilflosigkeit abzubauen und eine stabile Lernumgebung zu schaffen. zur Anmeldung
DTSTART:20250318T150000Z
DTEND:20250318T170000Z
URL;VALUE=URI:https://bildung.ostfriesischelandschaft.de/veranstaltung/umgang-mit-traumatisierten-schuelerinnen-und-schuelern-im-daz-unterricht/
DTSTAMP:20260422T105632Z
UID:69e8a9601b95d
END:VEVENT
END:VCALENDAR