BEGIN:VCALENDAR
VERSION:2.0
PRODID:Gezeitenkonzerte
CALSCALE:GREGORIAN
BEGIN:VEVENT
LOCATION:Carl-Gittermann-Realschule Esens\, Walpurgisstraße 9\, Esens
GEO:53.6494174;7.6102623
SUMMARY:Weiterbildungsmodul zum Leselernhunde-Team\, ein Angebot des Zentrums für tiergestützte Therapie und Pädagogik
DESCRIPTION:Leselernhunde-Teams helfen Kindern und Jugendlichen\, die Freude am Bücher lesen (wieder) zu entdecken\, ihre Lesefähigkeiten zu verbessern\, die Angst vorm Vorlesen zu verlieren\, selbstsicherer im Umgang mit Hunden\, aber auch mit den Mitmenschen zu werden. In den beiden Seminartagen sollen die theoretischen und praktischen Möglichkeiten für die Mensch- Hund-Teams in Theorie und Praxis erarbeitet und erprobt werden. Mitzubringen sind: - der eigene Hund (inkl. Versicherungs- und Impf­nachweis) - Leckerchen/Spielzeug für den Hund - eine Decke und ggf. Kissen zum gemeinsamen Lesen für Hund und Anleiter (es findet alles den ganzen Tag überwiegend auf dem Boden statt) - ggf. Bücher und Zeitschriften und andere Lesefördermaterialien für das jeweilige Klientel. Während der Weiterbildung schlüpfen die Kurs-Teilnehmenden auch in die Rolle der Klienten\, d.h Klienten müssen nicht mitgebracht werden. Dozent: Sebastian Cramer Zeitrahmen: 25.06.2024\, 11 - 17 Uhr 26.06.2024\, 10 - 16 Uhr WEITERE INFORMATIONEN        --&gt\; ANMELDUNG &nbsp\; &nbsp\;
DTSTART:20240625T090000Z
DTEND:20240626T140000Z
URL;VALUE=URI:https://bildung.ostfriesischelandschaft.de/veranstaltung/ueberpruefungs-trainingstag-fuer-mensch-hund-teams-in-der-schule/
DTSTAMP:20260422T073731Z
UID:69e87abbc02ae
END:VEVENT
END:VCALENDAR