BEGIN:VCALENDAR
VERSION:2.0
PRODID:Gezeitenkonzerte
CALSCALE:GREGORIAN
BEGIN:VEVENT
LOCATION:SparkassenForum Leer\, Bürgermeister-Ehrlenholtz-Straße 14\, Leer (Ostfriesland)
GEO:53.2314812;7.4589473
SUMMARY:Struktureller Kinderschutz im Landkreis Leer\, Fachtagung für Fach- und Lehrkräfte sowie Ehrenamtliche aus Kita\, Schulen\, Tagespflege\, Jugendarbeit und Vereinen
DESCRIPTION:Rund um das Thema Kinderschutz ergeben sich in der Praxis oftmals viele Fragen und Unsicherheiten. Im Rahmen der zweiteiligen Fachtagung wollen wir Sie über die Anlaufstellen im Landkreis Leer und Verfahrensschritte in einem Kinderschutzfall informieren und Sie zur Vernetzung mit anderen Kolleg*innen einladen. Mittwoch\, 27.09.2023 Eröffnungsvortrag mit Austausch: „Kinderschutz in ländlichen Räumen - Herausforderungen und Perspektiven“ Was sind die Besonderheiten ländlicher Räume? Was wissen wir über die Belastungen/Ressourcen von Familien mit jungen Kindern in ländlichen Räumen? Wie könnten niedrigschwellige Zugänge zu Beratung/Hilfe/Unterstützung geschaffen werden? Donnerstag\, 28.09.2023 Fachtag mit Workshops --&gt\; Programm-Flyer           --&gt\; zur Anmeldung
DTSTART:20230927T160000Z
DTEND:20230928T150000Z
URL;VALUE=URI:https://bildung.ostfriesischelandschaft.de/veranstaltung/struktureller-kinderschutz-im-landkreis-leer/
DTSTAMP:20260422T073629Z
UID:69e87a7d46c48
END:VEVENT
END:VCALENDAR