BEGIN:VCALENDAR
VERSION:2.0
PRODID:Gezeitenkonzerte
CALSCALE:GREGORIAN
BEGIN:VEVENT
LOCATION:RPZ der Ostfriesischen Landschaft\, Fischteichweg 16\, Aurich
GEO:53.4674232;7.4816445
SUMMARY:So springt der Funke über: Ein Methodenkoffer für Deutsch als Fremdsprache/Zweitsprache\, Lehrkräftefortbildung
DESCRIPTION:Lehrkräftefortbildung für - Deutschlehrer*innen\, die DaZ unterrichten oder Willkommensklassen oder internationale Förderklassen - Lehrer*innen mit Migrationshintergrund\, die in deutschen Schulen eingesetzt werden\, um DaZ Unterricht zu erteilen - Gerade aktuell: Ukrainische Deutschlehrer*innen\, die ukrainischen Schüler*innen Deutsch beibringen Praxisnahe Tipps zum Umsetzen spannender Methoden im DaZ/DaF- Unterricht. Ein Konzept\, wie Fremdsprachenunterricht in jahrgangsübergreifenden Gruppen auf motivierende Art und Weise vermittelt werden kann und dabei alle Fertigkeiten wie Sprechen\, Lesen\, Sehen und Hören\, Schreiben\, Grammatik\, Wortschatz und Landeskunde eingebunden werden. Schülerorientierte Unterrichtseinstiege in Verbindung mit authentischen Themen sorgen dafür\, dass die deutsche Sprache schnell erlernt werden kann - auch ohne Lehrbuch. Ein eigener Laptop kann von den Teilnehmer*innen mitgebracht werden\, ist aber nicht Voraussetzung. Alle Teilnehmer*innen bekommen am Ende eine PowerPoint des Workshops. In der Kursgebühr ist die Tagungsverpflegung enthalten. Die Referentin hat vielfältige Erfahrungen mit DaF und entsprechenden Fortbildungen. zur Anmeldung
DTSTART:20230215T080000Z
DTEND:20230215T150000Z
URL;VALUE=URI:https://bildung.ostfriesischelandschaft.de/veranstaltung/so-springt-der-funke-ueber-ein-methodenkoffer-fuer-deutsch-als-fremdsprache-zweitsprache/
DTSTAMP:20260422T105331Z
UID:69e8a8ab50ae6
END:VEVENT
END:VCALENDAR