BEGIN:VCALENDAR
VERSION:2.0
PRODID:Gezeitenkonzerte
CALSCALE:GREGORIAN
BEGIN:VEVENT
LOCATION:Forum der Ostfriesischen Landschaft\, Georgswall 1-3\, Aurich
GEO:53.4678548;7.480633
SUMMARY:Sexuelle Gewalt im Handlungsfeld von Schule &#8211\; Was können Schulen tun?\, Fortbildung der Bildungsregion Ostfriesland und des Kompetenzzentrums für Lehrkräftefortbildung
DESCRIPTION:Fortbildung für Fach- und Lehrkräfte aus allen Schulstufen\, Schulsozialarbeiterinnen/Schulsozialarbeiter\, Pädagogische Mitarbeiterinnen/Mitarbeiter Die Bildungsregion Ostfriesland und das Kompetenzzentrum für Lehrkräftefortbildung bieten Schulen in Kooperation mit hochkarätigen Expertinnen und Experten Unterstützung bei der Auseinandersetzung mit dem herausfordernden Thema: Sexuelle Gewalt im Handlungsfeld von Schule. In der Auftaktveranstaltung geht es um Zahlen\, Daten\, Fakten\, sowie Täter*innenstrategien\, Handlungs- und Vernetzungsoptionen. Ziel dieser Veranstaltung ist es\, sich einen Überblick zu verschaffen\, was zu tun ist: 1. Klärung von Begrifflichkeiten 2. Aneignung von Hintergrundwissen 3. Kenntnisse erlangen über konkrete Interventionen\, 4.Informationen sammeln über Hilfe und Unterstützung. zur Anmeldung Weitere Fortbildungen zum Thema: Sexuelle Gewalt UNTER Kindern und Jugendlichen - Was mache ich\, wenn es in meiner Klasse/Schule passiert? Sexuelle Bildung - Prävention von sexueller Gewalt: Wie können Kinder und Jugendliche gestärkt und aufgeklärt werden
DTSTART:20230905T070000Z
DTEND:20230905T140000Z
URL;VALUE=URI:https://bildung.ostfriesischelandschaft.de/veranstaltung/sexuelle-gewalt-im-handlungsfeld-von-schule-was-koennen-schulen-tun/
DTSTAMP:20260422T073833Z
UID:69e87af97357e
END:VEVENT
END:VCALENDAR