BEGIN:VCALENDAR
VERSION:2.0
PRODID:Gezeitenkonzerte
CALSCALE:GREGORIAN
BEGIN:VEVENT
LOCATION:Schule am Voßbarg\, Schillerstraße 2\, 26180 Rastede
GEO:53.2386832;8.1804279
SUMMARY:Schule am Voßbarg &#8211\; eine Schule mit Ernährungsschwerpunkt\, 
DESCRIPTION:Ein tägliches Frühstücksangebot\, eine Mittagsverpflegung\, die von der Schulgemeinschaft sehr gut angenommen wird\, ein kleines Café am Teich\, selbstangebaute Lebensmittel auf dem großen Gemüseacker und Vieles mehr - das ist gelebte Ernährungsbildung unter aktiver Beteiligung der Schülerschaft und des gesamten Kollegiums. Wie funktioniert das? Welches Konzept\, welche Unterrichtsstrukturen\, welche motivierenden Faktoren und welche Kooperationspartnerschaften sind für die langjährige Umsetzung notwendig? Welche Elemente des Konzeptes lassen sich auf andere Schulgemeinschaften und die Gestaltung des Ganztages übertragen? Lassen Sie sich an diesem Nachmittag inspirieren! Das Programm lässt viel Zeit für den gemeinsamen Austausch. Das Schulfrühstück der Schule am Voßbarg weitere Informationen    Anmeldung
DTSTART:20250522T111500Z
DTEND:20250522T141500Z
URL;VALUE=URI:https://bildung.ostfriesischelandschaft.de/veranstaltung/schule-vossbarg/
DTSTAMP:20260422T105632Z
UID:69e8a9602d273
END:VEVENT
END:VCALENDAR