BEGIN:VCALENDAR
VERSION:2.0
PRODID:Gezeitenkonzerte
CALSCALE:GREGORIAN
BEGIN:VEVENT
LOCATION:
GEO:
SUMMARY:Schreibbewegungstraining\, das nicht nur Spaß und gute Laune verspricht\, Fortbildung für Grundschullehrkräfte\, Pädagogische Mitarbeiter*innen und Erzieher*innen in Kooperation mit der VHS Leer e.V.
DESCRIPTION:Eine Förderung mit Hilfe des graphomotorischen Trainings nach Magdalene Heermann ist einfach\, aber sehr wirkungsvoll. Es erleichtert Kindern den Einstieg in die Schule und trägt dazu bei\, Belastungen aus dem sozialen Umfeld leichter zu verkraften. Ziel des Trainings ist die Stärkung des Selbstbewusstseins\, eine harmonische Feinmotorik\, die Förderung der Sinnenwachheit\, der Wahrnehmungsfähigkeit und damit einen aufmerksameren Realitätsbezug zu erreichen. Aktuelle Fallbeispiele und individuell praktische Anleitungen bereichern den Tag. Kursleitung: Bettina Bruns\, Schreibbewegungs- und Lerntherapeutin | Dozententeam zur Anmeldung
DTSTART:20230506T080000Z
DTEND:20230506T113000Z
URL;VALUE=URI:https://bildung.ostfriesischelandschaft.de/veranstaltung/schreibbewegungstraining-das-nicht-nur-spass-und-gute-laune-verspricht/
DTSTAMP:20260422T091945Z
UID:69e892b109d13
END:VEVENT
END:VCALENDAR