BEGIN:VCALENDAR
VERSION:2.0
PRODID:Gezeitenkonzerte
CALSCALE:GREGORIAN
BEGIN:VEVENT
LOCATION:Friesentherme Emden\, 
GEO:
SUMMARY:Rettungsfähigkeit Schulschwimmen\, 
DESCRIPTION:Inhalte: Aktualisierung der Fähigkeit zum Retten und Wiederbeleben im Schwimmunterricht. Grundlage dieser Aktualisierung ist die erweiterte „Kombinierte Übung“ des Deutschen Rettungsschwimmabzeichens der DLRG\, des DRK\, des ASB – Bronze: • 15 m Anschwimmen in Bauchlage\, • Abtauchen auf 2-3 m Wassertiefe und Heraufholen eines 5 kg-Tauchringes oder eines gleichartigen Gegenstandes\, diesen anschließend fallen lassen • Lösen aus einer Umklammerung durch einen Befreiungsgriff • 15m Schleppen eines Partners • Anlandbringen des Geretteten • Vorführung der Herz-Lungen-Wiederbelebung (HLW). Zusätzlich wird den Teilnehmern angeboten\, den Nachweis zu erbringen\, dass sie – bei entsprechender Eignung – einen etwa 5 kg schweren Gegenstand aus über 3m Wassertiefe heraufholen und zum Beckenrand bringen können (notwendig\, wenn Schulschwimmunterricht in tiefen Becken stattfindet). Die Fortbildung dient nicht der Auffrischung von DLRG SILBER/BRONZE\, erfüllt aber die Anforderungen des Erlasses „Retten und Wiederbeleben - Qualifikation der Schwimmlehrkräfte“ vom 20.03.2014. zur Anmeldung
DTSTART:20240206T074500Z
DTEND:20240206T114500Z
URL;VALUE=URI:https://bildung.ostfriesischelandschaft.de/veranstaltung/rettungsfaehigkeit-schulschwimmen/
DTSTAMP:20260422T055709Z
UID:69e863355260a
END:VEVENT
END:VCALENDAR