BEGIN:VCALENDAR
VERSION:2.0
PRODID:Gezeitenkonzerte
CALSCALE:GREGORIAN
BEGIN:VEVENT
LOCATION:RPZ der Ostfriesischen Landschaft\, Fischteichweg 16\, Aurich
GEO:53.4674232;7.4816445
SUMMARY:Read and succeed &#8211\; join in and win: Planung und Durchführung eines englischen Vorlesewettbewerbs\, 
DESCRIPTION:Ziel dieser Veranstaltung ist die Durchführung eines englischen Vorlesewettbewerbs als Regionalentscheid im Dezember 2024. Austragungsort ist das Kompetenzzentrum in Aurich. Ein schrittweises und langfristiges Vorgehen zur praktischen Umsetzung dieses Pilotprojektes\, das das Lesen in den Fokus stellen soll\, ist demnach beabsichtigt. Lernende des sechsten Jahrgangs an Oberschulen und Realschulen aus den Landkreisen Aurich\, Wittmund und Leer sowie der Stadt Emden sind zur freiwilligen Teilnahme eingeladen. Interessierte Englischlehrkräfte treffen sich am 17.04.2024 unverbindlich zu einer Informationsveranstaltung\, in der Modalitäten zur Realisierung besprochen werden. Dabei stehen die organisatorischen und methodisch-didaktischen Aspekte des Wettbewerbs im Vordergrund. zur Anmeldung
DTSTART:20240417T133000Z
DTEND:20240417T160000Z
URL;VALUE=URI:https://bildung.ostfriesischelandschaft.de/veranstaltung/read-and-succeed-join-in-and-win-planung-und-durchfuehrung-eines-englischen-vorlesewettbewerbs/
DTSTAMP:20260422T073921Z
UID:69e87b2978768
END:VEVENT
END:VCALENDAR