BEGIN:VCALENDAR
VERSION:2.0
PRODID:Gezeitenkonzerte
CALSCALE:GREGORIAN
BEGIN:VEVENT
LOCATION:Grundschule Oldersum\, 
GEO:
SUMMARY:Leselernhunde-Team Ausbildung\, Weiterbildung in Kooperation mit dem Zentrum für tiergestützte Therapie und Pädagogik
DESCRIPTION:Was macht ein Leselernhund? Leselernhunde helfen Kindern und Jugendlichen die Freude am Bücher lesen (wieder) zu entdecken\, ihre Lesefähigkeiten zu verbessern\, die Angst vorm Vorlesen zu verlieren\, selbstsicherer im Umgang mit Hunden aber auch mit den Mitmenschen zu werden und bessere Noten zu erhalten. Wie hilft ein Leselernhund? Zum Beispiel… • kommen die Leselernhunde in die Schule\, Büchereien\, der andere Einrichtungen\, um Kindern und Jugendlichen Hilfe beim Lesen zu bieten • liest das Kind/ der Jugendliche aus einem speziell geeigneten Buch dem Leselernhund vor • hat das Kind/ der Jugendliche seinen „eigenen“ Hund zum Vorlesen. Warum ein Leselernhund ? Weil… • es Spaß macht\, einem Hund vorzulesen. Er hört zu und kritisiert nicht! • es dem Kind/ dem Jugendlichen gut tut\, den Hund zu streicheln und seine Nähe beim Lesen zu spüren • Ängste und Hemmungen\, die durch Misserfolge beim Vorlesen z.B. in der Schule entstehen\, abgebaut werden • dem Kind/ dem Jugendlichen geholfen wird\, den Lesefluss nicht zu unterbrechen\, sobald Schwierigkeiten auftauchen. In den beiden Seminartagen sollen die theoretischen und praktischen Möglichkeiten für die Mensch-Hund-Teams in Theorie und Praxis erarbeitet und erprobt werden. Zu den Inhalten gehören: • Der Hund\, der Anleiter und der Klient in der Leseförderung •...
DTSTART:20230808T080000Z
DTEND:20230809T140000Z
URL;VALUE=URI:https://bildung.ostfriesischelandschaft.de/veranstaltung/leselernhunde-team-ausbildung/
DTSTAMP:20260422T073450Z
UID:69e87a1a00c62
END:VEVENT
END:VCALENDAR