BEGIN:VCALENDAR
VERSION:2.0
PRODID:Gezeitenkonzerte
CALSCALE:GREGORIAN
BEGIN:VEVENT
LOCATION:Emden\, 
GEO:
SUMMARY:Kooperationstools – Wie können digitale Medien genutzt werden\, um die Zusammenarbeit an Schulen zu fördern und zu verbessern?\, 
DESCRIPTION:Bei diesem Workshop stehen ausgewählte digitale Werkzeuge im Mittelpunkt\, mit denen wir gemeinsam die Möglichkeiten erkunden werden\, wie sich die Zusammenarbeit und Kommunikation in schulischen Kontexten verändern und möglicherweise verbessern lassen. In verschiedenen Unterrichtsszenarien können Kollaborations- und Kooperationstools nicht nur die Kommunikation und Kooperation zwischen Schülern\, sondern auch die innerhalb des Kollegiums verbessern. Die Teilnahme erfordert kein spezielles Vorwissen\, aber es ist notwendig\, digitale Endgeräte zur Verfügung zu haben\, um aktiv am Workshop teilzunehmen. zur Anmeldung
DTSTART:20231211T150000Z
DTEND:20231211T163000Z
URL;VALUE=URI:https://bildung.ostfriesischelandschaft.de/veranstaltung/kooperationstools-wie-koennen-digitale-medien-genutzt-werden-um-die-zusammenarbeit-an-schulen-zu-foerdern-und-zu-verbessern/
DTSTAMP:20260422T060052Z
UID:69e86414c0244
END:VEVENT
END:VCALENDAR