BEGIN:VCALENDAR
VERSION:2.0
PRODID:Gezeitenkonzerte
CALSCALE:GREGORIAN
BEGIN:VEVENT
LOCATION:Emden\, 
GEO:
SUMMARY:KI in der Schule &#8211\; Herausforderungen und Chancen\, 
DESCRIPTION:Entdecken Sie die Zukunft der Bildung: Wie wird die Schule von morgen aussehen\, welche Rolle spielt moderne Technologie\, und wie kann KI den Unterricht verändern? In unserem Workshop stehen Diskussion und aktive Mitarbeit im Fokus\, um gemeinsam Antworten und erste Lösungsansätze zu generieren. Gestalten Sie die Bildung von morgen mit! zur Anmeldung
DTSTART:20231130T150000Z
DTEND:20231130T163000Z
URL;VALUE=URI:https://bildung.ostfriesischelandschaft.de/veranstaltung/ki-in-der-schule-herausforderungen-und-chancen/
DTSTAMP:20260422T073655Z
UID:69e87a9707308
END:VEVENT
END:VCALENDAR