BEGIN:VCALENDAR
VERSION:2.0
PRODID:Gezeitenkonzerte
CALSCALE:GREGORIAN
BEGIN:VEVENT
LOCATION:Fleischerei Eckhoff Moormerland\, Westerwieke 134\, Moormerland
GEO:53.3183764;7.5166548
SUMMARY:Produktionsbedingungen und Ausbildungsmöglichkeiten im Fleischereihandwerk\, Betriebserkundung
DESCRIPTION:Wie sehen die Produktionsbedingungen in einer modernen Fleischerei aus? Welche Vorgaben gelten für die Verarbeitung von Fleisch? Woran erkennen wir gutes Fleisch? Welche handwerklichen Fähigkeiten erwerben Auszubildende in diesem Gewerk? Welche Ausbildungsmöglichkeiten und Perspektiven werden den Jugendlichen geboten? An diesem Nachmittag führen Sie die Inhaber der Fleischerei Eckhoff durch ihren modernen Betrieb. Sie zeigen Abläufe und Maschinen - vom großen Cutter bis hin zur Verpackungsstraße. Die Auszubildenden demonstrieren ihre Fertigkeiten. Weitere Informationen  Anmeldung
DTSTART:20250320T140000Z
DTEND:20250320T170000Z
URL;VALUE=URI:https://bildung.ostfriesischelandschaft.de/veranstaltung/fleischereihandwerk/
DTSTAMP:20260422T111154Z
UID:69e8acfaaf816
END:VEVENT
END:VCALENDAR