BEGIN:VCALENDAR
VERSION:2.0
PRODID:Gezeitenkonzerte
CALSCALE:GREGORIAN
BEGIN:VEVENT
LOCATION:Online\, 
GEO:
SUMMARY:Feste Lesezeit: Lernangebote zur Förderung der phonologischen Bewusstheit\, 
DESCRIPTION:Wie lassen sich kurze feste Lesezeiten für eine systematische und effektive Förderung optimal nutzen? Welche Lesefördermaterialien und -methoden sind besonders geeignet? In Klasse 1 liegt ein Schwerpunkt auf der Förderung der phonologischen Bewusstheit\, die eine wichtige Vorläuferfähigkeit für den Schriftspracherwerb ist. Um Schüler und Schülerinnen ab Klasse 1 für den lautlichen Aspekt von Sprache zu sensibilisieren und damit eine sichere Grundlage für das Lesenlernen unserer lautbezogenen Schrift zu schaffen\, bedarf es gezielter Übungen. Es werden konkrete Förderideen und Materialien zur Sprechsilbengliederung\, zum Erkennen von Reimen sowie zum Heraushören von Lauten und Lautpositionen vorgestellt. Dabei werden sowohl Übungen gezeigt\, die nicht an Schrift gebunden sind\, als auch solche\, die erste Buchstabenkenntnisse einbeziehen. Weitere Informationen und Anmeldung
DTSTART:20250507T130000Z
DTEND:20250507T143000Z
URL;VALUE=URI:https://bildung.ostfriesischelandschaft.de/veranstaltung/feste-lesezeit-lernangebote-zur-foerderung-der-phonologischen-bewusstheit/
DTSTAMP:20260422T105815Z
UID:69e8a9c76c4a1
END:VEVENT
END:VCALENDAR