BEGIN:VCALENDAR
VERSION:2.0
PRODID:Gezeitenkonzerte
CALSCALE:GREGORIAN
BEGIN:VEVENT
LOCATION:Online\, 
GEO:
SUMMARY:Erste Hilfe zur Sprachstandserhebung &#8211\; Niveaubeschreibungen DaZ\, Fortbildung für Lehrkräfte ab Jahrgang 3
DESCRIPTION:„Und jetzt soll ich mich auch noch um Sprachstandserhebung kümmern?"... Ja\, denn Fördern ohne Sprachstandserhebung ist wie Navigieren ohne Standortbestimmung - Man kommt\, wenn überhaupt\, nur zufällig am Ziel an. Die Veranstaltung will Ihnen Informationen und Praxiswissen über wichtige Werkzeuge zur Sprachstandserhebung und Beobachtung vermitteln. Sie können sich damit einen Überblick verschaffen\, auf welcher Stufe des Spracherwerbs sich Ihre DaZ-Schülerinnen und -Schüler gerade befinden. Daraus ergeben sich Hinweise auf sinnvolle nächste Förderschritte für den Förderplan. Auch als Grundlage für die Beschreibung des Lernstands für das Zeugnis oder ein SPU-Gutachten liefert der Einsatz dieser Werkzeuge wichtige Informationen. Schwerpunktmäßig werden die Niveaubeschreibungen DaZ thematisiert: Mit den kostenlosen Niveaubeschreibungen Deutsch als Zweitsprache können Sie strukturiert\, systematisch und unterrichtsbegleitend die Kompetenz und den Kompetenzzuwachs der Schülerinnen und Schüler im Deutschen als Zweitsprache beobachten und beschreiben. zur Anmeldung
DTSTART:20240311T133000Z
DTEND:20240311T144500Z
URL;VALUE=URI:https://bildung.ostfriesischelandschaft.de/veranstaltung/erste-hilfe-zur-sprachstandserhebung-niveaubeschreibungen-daz-2/
DTSTAMP:20260422T073921Z
UID:69e87b296afad
END:VEVENT
END:VCALENDAR