BEGIN:VCALENDAR
VERSION:2.0
PRODID:Gezeitenkonzerte
CALSCALE:GREGORIAN
BEGIN:VEVENT
LOCATION:Online\, 
GEO:
SUMMARY:Edumaps &#8211\; die digitale und interaktive Pinwand für Ihren Schulalltag\, Lehrkräftefortbildung in Kooperation mit der Niedersächsischen Landesmedienanstalt
DESCRIPTION:Edumaps ist eine digitale Pinwand\, ähnlich wie Taskcards oder Padlet. Es ist eines der Tools\, die das Land Niedersachsen für den datenschutzkonformen Einsatz in niedersächsischen Schulen lizensiert hat und somit für alle Lehrkräfte und Schüler:innen dieses Bundeslandes kostenfrei nutzbar. Die Anwendung erlaubt ein kollaboratives Arbeiten an Inhalten in Echtzeit und ist für alle Fächer sowie als Austauschplattform für Materialien geeignet. Mögliche Nutzungsformen sind z.B. interaktive Wochenpläne\, individuelle Förderpläne und Lernpfade\, Materialboxen\, Darstellung von Lernzielen\, Brainstorming\, Kanban-Boards\, Stundenpläne\, Timelines\, schwarze Bretter\, Lerntagebücher usw. Weitere Informationen / Anmeldung
DTSTART:20230614T140000Z
DTEND:20230614T150000Z
URL;VALUE=URI:https://bildung.ostfriesischelandschaft.de/veranstaltung/edumaps-die-digitale-und-interaktive-pinwand-fuer-ihren-schulalltag/
DTSTAMP:20260422T092353Z
UID:69e893a937622
END:VEVENT
END:VCALENDAR