BEGIN:VCALENDAR
VERSION:2.0
PRODID:Gezeitenkonzerte
CALSCALE:GREGORIAN
BEGIN:VEVENT
LOCATION:
GEO:
SUMMARY:Duales Studium der Betriebswirtschaft in Ostfriesland\, Lokaltermin zur Beruflichen Orientierung für Lehrkräfte und Pädagogische Fachkräfte
DESCRIPTION:Sie möchten sich über Studien- und Karrieremöglichen Ihrer Schülerinnen und Schüler in Ostfriesland informieren? Sie möchten erfahren\, welche Vorteile und Herausforde-rungen ein duales Studium mit sich bringt? Oder Sie möchten einfach einmal über den Business Campus in Leer schlendern und mit den Lehrenden und Studierenden ins Ge-spräch kommen? An diesem Nachmittag sind die Türen für Sie geöffnet und es erwar-tet Sie ein abwechslungsreiches und informatives Programm. Wir freuen uns auf den konstruktiven Austausch mit Ihnen! Anmeldung bis zum 26. April 2023 per E-Mail an Janina Marques Gonzalez\, Bildungsregion Ostfriesland anmeldung-bro@ostfriesischelandschaft.de Informationen / Einladung
DTSTART:20230510T130000Z
DTEND:20230510T153000Z
URL;VALUE=URI:https://bildung.ostfriesischelandschaft.de/veranstaltung/duales-studium-der-betriebswirtschaft-in-ostfriesland/
DTSTAMP:20260422T092145Z
UID:69e8932912282
END:VEVENT
END:VCALENDAR