BEGIN:VCALENDAR
VERSION:2.0
PRODID:Gezeitenkonzerte
CALSCALE:GREGORIAN
BEGIN:VEVENT
LOCATION:Online\, 
GEO:
SUMMARY:Die Stellung der Grammatik in einem kompetenzorientierten Fremdsprachenunterricht\, 
DESCRIPTION:In dieser Online-Veranstaltung wird der traditionell hohe Stellenwert sprachlicher Mittel im Unterricht (insb. von Grammatik) empirisch und praktisch auf den Prüfstein gestellt zugunsten eines tatsächlich kompetenzorientierten Unterrichts\; dabei werden Möglichkeiten einer neugedachten kompetenzorientierten Spracharbeit und Vermittlung von Lernstrategien in Augenschein genommen und diskutiert. zur Anmeldung
DTSTART:20231211T153000Z
DTEND:20231211T163000Z
URL;VALUE=URI:https://bildung.ostfriesischelandschaft.de/veranstaltung/die-stellung-der-grammatik-in-einem-kompetenzorientierten-fremdsprachenunterricht/
DTSTAMP:20260422T060046Z
UID:69e8640e8e6fc
END:VEVENT
END:VCALENDAR