BEGIN:VCALENDAR
VERSION:2.0
PRODID:Gezeitenkonzerte
CALSCALE:GREGORIAN
BEGIN:VEVENT
LOCATION:Online\, 
GEO:
SUMMARY:DaZ-Unterricht an berufsbildenden Schulen: Wortschatz\, Grammatik & Co – Methodenpool für einen lebendigen Unterricht\, 
DESCRIPTION:Diese Fortbildung richtet sich gezielt an Lehrkräfte an berufsbildenden Schulen und bietet Ihnen die Möglichkeit\, sich im Kollegenkreis über den DaZ-Unterricht mit jungen Erwachsenen auszutauschen. In der Veranstaltung geht es zum Beispiel um folgende Fragen: Wie lässt sich Wortschatz methodisch abwechslungsreich einführen und üben? Welche Unterrichtsaktivitäten könnten sich an einen Lehrbuchdialog anschließen? Wie regen Sie die Lernenden am besten zum Sprechen an? Auf welche Weise kann man aktuelle Songs in den Unterricht einbinden? In dieser Fortbildung erweitern Sie Ihr Methodenspektrum um viele Ideen zum Training von Wortschatz\, Grammatik\, Hörverstehen und mündlicher Kommunikation. Dafür nutzen wir Dinge wie Abbildungen\, Würfel und Bildkarten\, die sich unabhängig von Lehrwerk oder Sprachniveau vielfältig einsetzen lassen und hilfreiche Begleiter beim Sprachenlernen sind. Sie bekommen viele Tipps zur Gestaltung Ihres DaZ-Unterrichts und zu  passenden Materialien für die Zielgruppe "junge Erwachsene". Natürlich haben Sie auch die Gelegenheit\, Fragen zu stellen\, die Ihnen diesbezüglich unter den Nägeln brennen. zur Anmeldung
DTSTART:20240517T070000Z
DTEND:20240517T100000Z
URL;VALUE=URI:https://bildung.ostfriesischelandschaft.de/veranstaltung/daz-unterricht-an-berufsbildenden-schulen-wortschatz-grammatik-co-methodenpool-fuer-einen-lebendigen-unterricht/
DTSTAMP:20260422T074325Z
UID:69e87c1d7f964
END:VEVENT
END:VCALENDAR