BEGIN:VCALENDAR
VERSION:2.0
PRODID:Gezeitenkonzerte
CALSCALE:GREGORIAN
BEGIN:VEVENT
LOCATION:Online\, 
GEO:
SUMMARY:DaZ kompakt: Tipps für die ersten Wochen mit neu zugewanderten Schülern und Schülerinnen\, Lehrkräftefortbildung
DESCRIPTION:In diesem Modul der Fortbildungsreihe "DaZ kompakt" geht es darum\, wie Sie neu zugewanderte SuS bei ihren ersten Schritten in der deutschen Sprache begleiten können. Um deren Situation besser nachvollziehen zu können\, nehmen Sie zu Beginn der Fortbildung selbst die Perspektive eines Sprachanfängers ein und erleben eine Unterrichtssequenz auf Polnisch. Ihre Beobachtungen und Erfahrungen werten wir gemeinsam aus und überlegen\, was sich daraus für Ihren DaZ-Unterricht ableiten lässt. Im Anschluss daran bekommen Sie viel praktisches Handwerkszeug für die Sprachförderung: Sie erfahren beispielsweise\, wie Sie Wortschatz abwechslungsreich einführen und üben können\, wie Bildkarten\, Wimmelbilder und Alltagsgegenstände beim Spracherwerb unterstützen und wie Sie Grammatik mit Hilfe von Chunks vermitteln können. Außerdem lernen Sie einige kleine Spiele und Bewegungsaktivitäten kennen\, mit denen Sie den Unterricht auflockern und Spaß an der neuen Sprache wecken können. zur Anmeldung
DTSTART:20230207T073000Z
DTEND:20230207T090000Z
URL;VALUE=URI:https://bildung.ostfriesischelandschaft.de/veranstaltung/daz-kompakt-tipps-fuer-die-ersten-wochen-mit-neu-zugewanderten-sus/
DTSTAMP:20260422T121809Z
UID:69e8bc8172977
END:VEVENT
END:VCALENDAR