BEGIN:VCALENDAR
VERSION:2.0
PRODID:Gezeitenkonzerte
CALSCALE:GREGORIAN
BEGIN:VEVENT
LOCATION:Online\, 
GEO:
SUMMARY:DaZ kompakt: Lernen lernen &#8211\; Methodentraining und Lernstrategien für DaZ-SuS\, Lehrkräftefortbildung
DESCRIPTION:In dieser Fortbildung geht es darum\, wie Sie den Lernprozess Ihrer DaZ-SuS unterstützen und wie Sie Methodentraining im DaZ-Unterricht zielführend integrieren können. Thematisiert werden Zeitplanung\, Selbstorganisation und Motivation beim Lernen\, aber auch Strategien zum Wortschatztraining\, unterstützende digitale Tools (z.B. Mindmaptool und Quizlet) und Anregungen\, wie die SuS aus ihren Fehlern lernen können. zur Anmeldung
DTSTART:20231010T130000Z
DTEND:20231010T143000Z
URL;VALUE=URI:https://bildung.ostfriesischelandschaft.de/veranstaltung/daz-kompakt-lernen-lernen-methodentraining-und-lernstrategien-fuer-daz-sus/
DTSTAMP:20260422T073833Z
UID:69e87af9884e0
END:VEVENT
END:VCALENDAR