BEGIN:VCALENDAR
VERSION:2.0
PRODID:Gezeitenkonzerte
CALSCALE:GREGORIAN
BEGIN:VEVENT
LOCATION:Online\, 
GEO:
SUMMARY:DaZ an beruflichen Schulen &#8211\; Fit für den Alltag in Deutschland\, 
DESCRIPTION:Diese Fortbildung richtet sich gezielt an Lehrkräfte an berufsbildenden Schulen. Sie haben hier die Gelegenheit sich im Kollegenkreis über Organisation und Struktur des DaZ-Unterrichts an Ihren Schulen auszutauschen. Dabei soll es auch um Ihre Erfahrungen mit heterogenen Lerngruppen und der besonderen Zielgruppe der jungen unbegleiteten Geflüchteten gehen. Gemeinsam überlegen wir\, welche Informationen für diese SuS über die reine Sprachvermittlung hinaus wichtig sind\, um sich in Deutschland besser zurecht zu finden und den Alltag selbstständig zu organisieren. Außerdem gib es im Laufe der Fortbildung praxisnahes Know-How rund um den DaZ-Unterricht\, wie beispielsweise Materialtipps\, aktivierende Ideen zur Einführung von Wortschatz und zum Einüben von Grammatikstrukturen sowie zielgruppengerechte Sprech- und Schreibanlässe. Hierzu sind Ihre Fragen bzw. Themenwünsche sehr willkommen! zur Anmeldung
DTSTART:20240216T080000Z
DTEND:20240216T110000Z
URL;VALUE=URI:https://bildung.ostfriesischelandschaft.de/veranstaltung/daz-an-beruflichen-schulen-fit-fuer-den-alltag-in-deutschland/
DTSTAMP:20260422T073854Z
UID:69e87b0eb33ca
END:VEVENT
END:VCALENDAR