BEGIN:VCALENDAR
VERSION:2.0
PRODID:Gezeitenkonzerte
CALSCALE:GREGORIAN
BEGIN:VEVENT
LOCATION:Carl von Ossietzky Universität Oldenburg\, 
GEO:
SUMMARY:Barcamp &#8222\;Sexualisierte Gewalt und Grenzverletzungen&#8220\;\, Lehrkräftefortbildung
DESCRIPTION:Die Themen Kinderschutz und Kindeswohl sind vor allem im Rahmen der aktuellen Krisen\, in Gesellschaft und somit auch in den Schulen ein hochaktuelles Thema. Die Fallzahlen bei sexueller Gewalt gegen Kinder und Jugendliche sind seit Jahren unverändert hoch. Allein in Deutschland gab es 2022 rund 15.000 Fälle von Kindesmissbrauch. Zum Schwerpunkt «Sexualisierte Gewalt» findet am 14.09.2023 ein Barcamp in Oldenburg statt\, zu dem wir Sie herzlich einladen. Das Barcamp ist eine Ad hoc-Konferenz\, die konkreten Inhalte für die verschiedenen Diskussionsforen werden erst am Veranstaltungstag festgelegt. Alle\, die ein Thema vorstellen oder diskutieren möchten\, können dies im Rahmen eigener Workshops tun. Dafür gibt es ausreichend Zeiten und Räume\, so dass viele Programmpunkte parallel stattfinden können. Zu Beginn des Barcamps gibt es eine Einführung in das Vorgehen\, anschließend können alle Interessierten eigene Programmpunkte vorstellen. Geplante Tagungsstruktur: 09.30 Uhr Ankommen\, Stehkaffee 10.00 Uhr Begrüßung\, Einführung in das Thema\, Erläuterung Methode «Barcamp» 10.30 Uhr Sammlung der Angebote für die Sessions 11.15  Uhr Arbeitsphase in den Sessions (Durchgang 1) 12.00 Uhr Mittagspause 13.00 Uhr Arbeitsphase in den Sessions (Durchgang 2) 13.45  Uhr Pause und Raumwechsel 14.00 Uhr Arbeitsphase in den Sessions (Durchgang 3) 15.00 Uhr Schlussworte und offener Ausklang mit Vernetzungsmöglichkeiten Die Veranstaltung wird als...
DTSTART:20230914T073000Z
DTEND:20230914T130000Z
URL;VALUE=URI:https://bildung.ostfriesischelandschaft.de/veranstaltung/barcamp-sexualisierte-gewalt-und-grenzverletzungen/
DTSTAMP:20260420T155700Z
UID:69e64ccca7d87
END:VEVENT
END:VCALENDAR