BEGIN:VCALENDAR
VERSION:2.0
PRODID:Gezeitenkonzerte
CALSCALE:GREGORIAN
BEGIN:VEVENT
LOCATION:Carl-Gittermann-Realschule Esens\, Walpurgisstraße 9\, Esens
GEO:53.6494174;7.6102623
SUMMARY:Aufbauseminar zum Mathe-Förder- und Forder-Hunde-Team\, ein Angebot des Zentrums für tiergestützte Therapie und Pädagogik
DESCRIPTION:Das Seminar ist als Aufbauseminar für ausgebildete Schul- und Lernbegleithunde-Teams sowie Leselernhunde-Teams geeignet und kann auch als Trainings- und Überprüfungstag von allen Mensch-Hund-Teams gebucht werden. Inhalte: - Heranführen an Zahlen mit einfachen Würfelspielen - Spaß mit Zahlen und beim Rechnen durch Übungen mit und für den Hund - z.B. Einführung des Bruchrechnens durch Leckerlistangen u.v.m. Dozent: Sebastian Cramer WEITERE INFORMATIONEN        --&gt\; ANMELDUNG &nbsp\; &nbsp\;
DTSTART:20240627T070000Z
DTEND:20240627T130000Z
URL;VALUE=URI:https://bildung.ostfriesischelandschaft.de/veranstaltung/aufbauseminar-zum-mathe-foerder-und-forder-hunde-team/
DTSTAMP:20260422T073731Z
UID:69e87abbd8bd4
END:VEVENT
END:VCALENDAR